Package: miRNApath Version: 1.66.0 Command: /Library/Frameworks/R.framework/Resources/bin/R CMD check --install=check:miRNApath.install-out.txt --library=/Library/Frameworks/R.framework/Resources/library --no-vignettes --timings miRNApath_1.66.0.tar.gz StartedAt: 2025-01-31 06:35:27 -0500 (Fri, 31 Jan 2025) EndedAt: 2025-01-31 06:37:07 -0500 (Fri, 31 Jan 2025) EllapsedTime: 100.7 seconds RetCode: 0 Status: OK CheckDir: miRNApath.Rcheck Warnings: 0