Package: miRNApath Version: 1.66.0 Command: chmod a+r miRNApath -R && F:\biocbuild\bbs-3.20-bioc\R\bin\R.exe CMD build --keep-empty-dirs --no-resave-data miRNApath StartedAt: 2025-02-03 20:25:01 -0500 (Mon, 03 Feb 2025) EndedAt: 2025-02-03 20:25:31 -0500 (Mon, 03 Feb 2025) EllapsedTime: 30.2 seconds RetCode: 0 Status: OK PackageFile: miRNApath_1.66.0.tar.gz PackageFileSize: 548.7 KiB