Package: miRNAtap Version: 1.40.0 Command: rm -rf miRNAtap.buildbin-libdir && mkdir miRNAtap.buildbin-libdir && /Users/biocbuild/BBS/utils/build-universal.sh miRNAtap_1.40.0.tar.gz /Library/Frameworks/R.framework/Resources/bin/R miRNAtap.buildbin-libdir StartedAt: 2025-02-04 13:27:25 -0500 (Tue, 04 Feb 2025) EndedAt: 2025-02-04 13:28:11 -0500 (Tue, 04 Feb 2025) EllapsedTime: 46.2 seconds RetCode: 0 Status: OK PackageFile: miRNAtap_1.40.0.tgz PackageFileSize: 575.4 KiB