Package: miRNAtap Version: 1.40.0 Command: /Library/Frameworks/R.framework/Resources/bin/R CMD INSTALL miRNAtap StartedAt: 2025-02-03 15:40:47 -0500 (Mon, 03 Feb 2025) EndedAt: 2025-02-03 15:41:16 -0500 (Mon, 03 Feb 2025) EllapsedTime: 28.8 seconds RetCode: 0 Status: OK