Package: miRNAtap Version: 1.40.0 Command: rm -rf miRNAtap.buildbin-libdir && mkdir miRNAtap.buildbin-libdir && F:\biocbuild\bbs-3.20-bioc\R\bin\R.exe CMD INSTALL --build --library=miRNAtap.buildbin-libdir miRNAtap_1.40.0.tar.gz StartedAt: 2025-02-04 08:56:45 -0500 (Tue, 04 Feb 2025) EndedAt: 2025-02-04 08:57:10 -0500 (Tue, 04 Feb 2025) EllapsedTime: 24.8 seconds RetCode: 0 Status: OK PackageFile: miRNAtap_1.40.0.zip PackageFileSize: 446.9 KiB