Package: miRNAtap Version: 1.40.0 Command: chmod a+r miRNAtap -R && F:\biocbuild\bbs-3.20-bioc\R\bin\R.exe CMD build --keep-empty-dirs --no-resave-data miRNAtap StartedAt: 2025-02-03 20:25:03 -0500 (Mon, 03 Feb 2025) EndedAt: 2025-02-03 20:26:01 -0500 (Mon, 03 Feb 2025) EllapsedTime: 58.0 seconds RetCode: 0 Status: OK PackageFile: miRNAtap_1.40.0.tar.gz PackageFileSize: 102.1 KiB