Package: miRcomp Version: 1.36.0 Command: /Library/Frameworks/R.framework/Resources/bin/R CMD build --keep-empty-dirs --no-resave-data miRcomp StartedAt: 2025-02-11 03:31:19 -0500 (Tue, 11 Feb 2025) EndedAt: 2025-02-11 03:31:57 -0500 (Tue, 11 Feb 2025) EllapsedTime: 38.8 seconds RetCode: 0 Status: OK PackageFile: miRcomp_1.36.0.tar.gz PackageFileSize: 3.324 MiB