Package: miRcomp Version: 1.36.0 Command: F:\biocbuild\bbs-3.20-bioc\R\bin\R.exe CMD check --no-multiarch --install=check:miRcomp.install-out.txt --library=F:\biocbuild\bbs-3.20-bioc\R\library --no-vignettes --timings miRcomp_1.36.0.tar.gz StartedAt: 2025-02-11 03:41:15 -0500 (Tue, 11 Feb 2025) EndedAt: 2025-02-11 03:42:08 -0500 (Tue, 11 Feb 2025) EllapsedTime: 53.3 seconds RetCode: 0 Status: WARNINGS CheckDir: miRcomp.Rcheck Warnings: 1