Package: miRcomp Version: 1.36.0 Command: F:\biocbuild\bbs-3.20-bioc\R\bin\R.exe CMD INSTALL miRcomp StartedAt: 2025-02-10 16:34:34 -0500 (Mon, 10 Feb 2025) EndedAt: 2025-02-10 16:34:48 -0500 (Mon, 10 Feb 2025) EllapsedTime: 14.6 seconds RetCode: 0 Status: OK