Package: miRcomp Version: 1.36.0 Command: /home/biocbuild/R/R/bin/R CMD INSTALL miRcomp StartedAt: 2025-02-03 21:03:36 -0000 (Mon, 03 Feb 2025) EndedAt: 2025-02-03 21:03:41 -0000 (Mon, 03 Feb 2025) EllapsedTime: 4.8 seconds RetCode: 0 Status: OK