Package: mia Version: 1.14.0 Command: rm -rf mia.buildbin-libdir && mkdir mia.buildbin-libdir && /Users/biocbuild/BBS/utils/build-universal.sh mia_1.14.0.tar.gz /Library/Frameworks/R.framework/Resources/bin/R mia.buildbin-libdir StartedAt: 2025-02-01 15:42:52 -0500 (Sat, 01 Feb 2025) EndedAt: 2025-02-01 15:43:52 -0500 (Sat, 01 Feb 2025) EllapsedTime: 60.1 seconds RetCode: 0 Status: OK PackageFile: mia_1.14.0.tgz PackageFileSize: 3.529 MiB