Package: mia Version: 1.14.0 Command: /Library/Frameworks/R.framework/Resources/bin/R CMD build --keep-empty-dirs --no-resave-data mia StartedAt: 2025-01-31 03:15:36 -0500 (Fri, 31 Jan 2025) EndedAt: 2025-01-31 03:17:09 -0500 (Fri, 31 Jan 2025) EllapsedTime: 92.5 seconds RetCode: 0 Status: OK PackageFile: mia_1.14.0.tar.gz PackageFileSize: 2.982 MiB