Package: mia Version: 1.14.0 Command: /Library/Frameworks/R.framework/Resources/bin/R CMD check --install=check:mia.install-out.txt --library=/Library/Frameworks/R.framework/Resources/library --no-vignettes --timings mia_1.14.0.tar.gz StartedAt: 2025-02-05 01:41:14 -0500 (Wed, 05 Feb 2025) EndedAt: 2025-02-05 02:09:45 -0500 (Wed, 05 Feb 2025) EllapsedTime: 1710.5 seconds RetCode: 0 Status: OK CheckDir: mia.Rcheck Warnings: 0