Package: mia Version: 1.14.0 Command: /Library/Frameworks/R.framework/Resources/bin/R CMD check --install=check:mia.install-out.txt --library=/Library/Frameworks/R.framework/Resources/library --no-vignettes --timings mia_1.14.0.tar.gz StartedAt: 2025-02-04 06:17:01 -0500 (Tue, 04 Feb 2025) EndedAt: 2025-02-04 06:57:02 -0500 (Tue, 04 Feb 2025) EllapsedTime: 2401.0 seconds RetCode: None Status: TIMEOUT CheckDir: mia.Rcheck Warnings: NA