Package: mia Version: 1.14.0 Command: /Library/Frameworks/R.framework/Resources/bin/R CMD INSTALL mia StartedAt: 2025-02-03 16:35:45 -0500 (Mon, 03 Feb 2025) EndedAt: 2025-02-03 16:37:30 -0500 (Mon, 03 Feb 2025) EllapsedTime: 104.9 seconds RetCode: 0 Status: OK