Package: mia Version: 1.14.0 Command: /home/biocbuild/bbs-3.20-bioc/R/bin/R CMD build --keep-empty-dirs --no-resave-data --md5 mia StartedAt: 2025-02-03 18:12:22 -0500 (Mon, 03 Feb 2025) EndedAt: 2025-02-03 18:13:44 -0500 (Mon, 03 Feb 2025) EllapsedTime: 81.1 seconds RetCode: 0 Status: OK PackageFile: mia_1.14.0.tar.gz PackageFileSize: 2.986 MiB