Package: mia Version: 1.14.0 Command: /home/biocbuild/bbs-3.20-bioc/R/bin/R CMD check --install=check:mia.install-out.txt --library=/home/biocbuild/bbs-3.20-bioc/R/site-library --timings mia_1.14.0.tar.gz StartedAt: 2025-02-04 00:04:41 -0500 (Tue, 04 Feb 2025) EndedAt: 2025-02-04 00:27:44 -0500 (Tue, 04 Feb 2025) EllapsedTime: 1383.3 seconds RetCode: 0 Status: OK CheckDir: mia.Rcheck Warnings: 0