Package: mia Version: 1.14.0 Command: F:\biocbuild\bbs-3.20-bioc\R\bin\R.exe CMD check --no-multiarch --install=check:mia.install-out.txt --library=F:\biocbuild\bbs-3.20-bioc\R\library --no-vignettes --timings mia_1.14.0.tar.gz StartedAt: 2025-01-31 03:53:05 -0500 (Fri, 31 Jan 2025) EndedAt: 2025-01-31 04:25:10 -0500 (Fri, 31 Jan 2025) EllapsedTime: 1925.4 seconds RetCode: 0 Status: OK CheckDir: mia.Rcheck Warnings: 0