Package: mia Version: 1.14.0 Command: /home/biocbuild/R/R/bin/R CMD build --keep-empty-dirs --no-resave-data mia StartedAt: 2025-01-31 00:53:14 -0000 (Fri, 31 Jan 2025) EndedAt: 2025-01-31 00:55:01 -0000 (Fri, 31 Jan 2025) EllapsedTime: 107.0 seconds RetCode: 0 Status: OK PackageFile: mia_1.14.0.tar.gz PackageFileSize: 3.047 MiB