############################################################################## ############################################################################## ### ### Running command: ### ### /home/biocbuild/R/R/bin/R CMD check --install=check:mia.install-out.txt --library=/home/biocbuild/R/R/site-library --no-vignettes --timings mia_1.14.0.tar.gz ### ############################################################################## ############################################################################## * using log directory ‘/home/biocbuild/bbs-3.20-bioc/meat/mia.Rcheck’ * using R version 4.4.2 (2024-10-31) * using platform: aarch64-unknown-linux-gnu * R was compiled by aarch64-unknown-linux-gnu-gcc (GCC) 14.2.0 GNU Fortran (GCC) 12.3.1 (openEuler 12.3.1-36.oe2403) * running under: openEuler 24.03 (LTS) * using session charset: UTF-8 * using option ‘--no-vignettes’ * checking for file ‘mia/DESCRIPTION’ ... OK * checking extension type ... Package * this is package ‘mia’ version ‘1.14.0’ * package encoding: UTF-8 * checking package namespace information ... OK * checking package dependencies ... OK * checking if this is a source package ... OK * checking if there is a namespace ... OK * checking for hidden files and directories ... OK * checking for portable file names ... OK * checking for sufficient/correct file permissions ... OK * checking whether package ‘mia’ can be installed ... OK * checking installed package size ... OK * checking package directory ... OK * checking ‘build’ directory ... OK * checking DESCRIPTION meta-information ... OK * checking top-level files ... OK * checking for left-over files ... OK * checking index information ... OK * checking package subdirectories ... OK * checking code files for non-ASCII characters ... OK * checking R files for syntax errors ... OK * checking whether the package can be loaded ... OK * checking whether the package can be loaded with stated dependencies ... OK * checking whether the package can be unloaded cleanly ... OK * checking whether the namespace can be loaded with stated dependencies ... OK * checking whether the namespace can be unloaded cleanly ... OK * checking loading without being on the library search path ... OK * checking whether startup messages can be suppressed ... OK * checking dependencies in R code ... NOTE 'library' or 'require' call to ‘topicdoc’ in package code. Please use :: or requireNamespace() instead. See section 'Suggested packages' in the 'Writing R Extensions' manual. * checking S3 generic/method consistency ... OK * checking replacement functions ... OK * checking foreign function calls ... OK * checking R code for possible problems ... OK * checking Rd files ... OK * checking Rd metadata ... OK * checking Rd cross-references ... NOTE Unknown package ‘https’ in Rd xrefs * checking for missing documentation entries ... OK * checking for code/documentation mismatches ... OK * checking Rd \usage sections ... OK * checking Rd contents ... OK * checking for unstated dependencies in examples ... OK * checking contents of ‘data’ directory ... OK * checking data for non-ASCII characters ... NOTE Note: found 101 marked UTF-8 strings * checking data for ASCII and uncompressed saves ... OK * checking files in ‘vignettes’ ... OK * checking examples ... OK Examples with CPU (user + system) or elapsed time > 5s user system elapsed calculateDMN 113.976 0.015 114.184 addNMF 59.845 14.266 57.638 hierarchy-tree 31.985 0.323 32.409 agglomerate-methods 22.449 1.105 23.619 addAlpha 12.814 0.283 13.119 transformAssay 11.783 0.040 11.857 addLDA 10.708 0.139 10.860 convertFromDADA2 9.288 0.456 9.769 getPrevalence 7.916 0.171 8.108 getCrossAssociation 8.018 0.043 8.077 mergeSEs 7.180 0.004 7.204 runCCA 6.531 0.272 6.823 splitOn 6.326 0.131 6.475 getDissimilarity 5.441 0.165 5.537 * checking for unstated dependencies in ‘tests’ ... OK * checking tests ... Running ‘testthat.R’ OK * checking for unstated dependencies in vignettes ... OK * checking package vignettes ... OK * checking running R code from vignettes ... SKIPPED * checking re-building of vignette outputs ... SKIPPED * checking PDF version of manual ... OK * DONE Status: 3 NOTEs See ‘/home/biocbuild/bbs-3.20-bioc/meat/mia.Rcheck/00check.log’ for details.