Package: mia Version: 1.14.0 Command: /home/biocbuild/R/R/bin/R CMD check --install=check:mia.install-out.txt --library=/home/biocbuild/R/R/site-library --no-vignettes --timings mia_1.14.0.tar.gz StartedAt: 2025-01-31 08:02:54 -0000 (Fri, 31 Jan 2025) EndedAt: 2025-01-31 08:35:12 -0000 (Fri, 31 Jan 2025) EllapsedTime: 1937.7 seconds RetCode: 0 Status: OK CheckDir: mia.Rcheck Warnings: 0