Package: mia Version: 1.14.0 Command: /home/biocbuild/R/R/bin/R CMD INSTALL mia StartedAt: 2025-01-30 20:59:53 -0000 (Thu, 30 Jan 2025) EndedAt: 2025-01-30 21:00:52 -0000 (Thu, 30 Jan 2025) EllapsedTime: 58.4 seconds RetCode: 0 Status: OK