Package: miaSim Version: 1.12.0 Command: /Library/Frameworks/R.framework/Resources/bin/R CMD build --keep-empty-dirs --no-resave-data miaSim StartedAt: 2025-02-04 03:21:40 -0500 (Tue, 04 Feb 2025) EndedAt: 2025-02-04 03:22:42 -0500 (Tue, 04 Feb 2025) EllapsedTime: 62.0 seconds RetCode: 0 Status: OK PackageFile: miaSim_1.12.0.tar.gz PackageFileSize: 590.9 KiB