Package: miaSim Version: 1.12.0 Command: /Library/Frameworks/R.framework/Resources/bin/R CMD INSTALL miaSim StartedAt: 2025-02-03 16:57:02 -0500 (Mon, 03 Feb 2025) EndedAt: 2025-02-03 16:57:36 -0500 (Mon, 03 Feb 2025) EllapsedTime: 34.3 seconds RetCode: 0 Status: OK