Package: miaSim Version: 1.12.0 Command: /Library/Frameworks/R.framework/Resources/bin/R CMD build --keep-empty-dirs --no-resave-data miaSim StartedAt: 2025-02-03 20:17:04 -0500 (Mon, 03 Feb 2025) EndedAt: 2025-02-03 20:19:24 -0500 (Mon, 03 Feb 2025) EllapsedTime: 139.3 seconds RetCode: 0 Status: OK PackageFile: miaSim_1.12.0.tar.gz PackageFileSize: 627.1 KiB