Package: miaSim Version: 1.12.0 Command: /home/biocbuild/bbs-3.20-bioc/R/bin/R CMD INSTALL miaSim StartedAt: 2025-02-10 15:41:36 -0500 (Mon, 10 Feb 2025) EndedAt: 2025-02-10 15:42:03 -0500 (Mon, 10 Feb 2025) EllapsedTime: 27.6 seconds RetCode: 0 Status: OK