Package: miaSim Version: 1.12.0 Command: F:\biocbuild\bbs-3.20-bioc\R\bin\R.exe CMD INSTALL miaSim StartedAt: 2025-02-03 17:04:32 -0500 (Mon, 03 Feb 2025) EndedAt: 2025-02-03 17:05:08 -0500 (Mon, 03 Feb 2025) EllapsedTime: 35.8 seconds RetCode: 0 Status: OK