Package: microRNA Version: 1.64.0 Command: /Library/Frameworks/R.framework/Resources/bin/R CMD build --keep-empty-dirs --no-resave-data microRNA StartedAt: 2025-01-30 20:41:11 -0500 (Thu, 30 Jan 2025) EndedAt: 2025-01-30 20:41:23 -0500 (Thu, 30 Jan 2025) EllapsedTime: 11.2 seconds RetCode: 0 Status: OK PackageFile: microRNA_1.64.0.tar.gz PackageFileSize: 5.743 MiB