Package: microRNA Version: 1.64.0 Command: /Library/Frameworks/R.framework/Resources/bin/R CMD check --install=check:microRNA.install-out.txt --library=/Library/Frameworks/R.framework/Resources/library --no-vignettes --timings microRNA_1.64.0.tar.gz StartedAt: 2025-01-31 06:27:18 -0500 (Fri, 31 Jan 2025) EndedAt: 2025-01-31 06:30:04 -0500 (Fri, 31 Jan 2025) EllapsedTime: 166.5 seconds RetCode: 0 Status: OK CheckDir: microRNA.Rcheck Warnings: 0