Package: microRNA Version: 1.64.0 Command: /Library/Frameworks/R.framework/Resources/bin/R CMD INSTALL microRNA StartedAt: 2025-01-30 15:26:09 -0500 (Thu, 30 Jan 2025) EndedAt: 2025-01-30 15:26:35 -0500 (Thu, 30 Jan 2025) EllapsedTime: 26.0 seconds RetCode: 0 Status: OK