Package: microRNA Version: 1.64.0 Command: /home/biocbuild/R/R/bin/R CMD check --install=check:microRNA.install-out.txt --library=/home/biocbuild/R/R/site-library --no-vignettes --timings microRNA_1.64.0.tar.gz StartedAt: 2025-01-31 08:05:18 -0000 (Fri, 31 Jan 2025) EndedAt: 2025-01-31 08:06:49 -0000 (Fri, 31 Jan 2025) EllapsedTime: 91.1 seconds RetCode: 0 Status: OK CheckDir: microRNA.Rcheck Warnings: 0