Package: microbiome Version: 1.28.0 Command: /Library/Frameworks/R.framework/Resources/bin/R CMD build --keep-empty-dirs --no-resave-data microbiome StartedAt: 2025-02-11 03:23:34 -0500 (Tue, 11 Feb 2025) EndedAt: 2025-02-11 03:24:09 -0500 (Tue, 11 Feb 2025) EllapsedTime: 35.2 seconds RetCode: 0 Status: OK PackageFile: microbiome_1.28.0.tar.gz PackageFileSize: 714 KiB