Package: microbiome Version: 1.28.0 Command: /Library/Frameworks/R.framework/Resources/bin/R CMD build --keep-empty-dirs --no-resave-data microbiome StartedAt: 2025-02-03 20:17:32 -0500 (Mon, 03 Feb 2025) EndedAt: 2025-02-03 20:18:49 -0500 (Mon, 03 Feb 2025) EllapsedTime: 76.4 seconds RetCode: 0 Status: OK PackageFile: microbiome_1.28.0.tar.gz PackageFileSize: 714 KiB