Package: microbiome Version: 1.28.0 Command: /Library/Frameworks/R.framework/Resources/bin/R CMD INSTALL microbiome StartedAt: 2025-02-03 16:28:21 -0500 (Mon, 03 Feb 2025) EndedAt: 2025-02-03 16:29:10 -0500 (Mon, 03 Feb 2025) EllapsedTime: 49.0 seconds RetCode: 0 Status: OK