Package: microbiome Version: 1.28.0 Command: /home/biocbuild/R/R/bin/R CMD build --keep-empty-dirs --no-resave-data microbiome StartedAt: 2025-02-04 00:56:28 -0000 (Tue, 04 Feb 2025) EndedAt: 2025-02-04 00:57:05 -0000 (Tue, 04 Feb 2025) EllapsedTime: 37.0 seconds RetCode: 0 Status: OK PackageFile: microbiome_1.28.0.tar.gz PackageFileSize: 738.2 KiB