Package: microbiomeExplorer Version: 1.16.0 Command: rm -rf microbiomeExplorer.buildbin-libdir && mkdir microbiomeExplorer.buildbin-libdir && /Users/biocbuild/BBS/utils/build-universal.sh microbiomeExplorer_1.16.0.tar.gz /Library/Frameworks/R.framework/Resources/bin/R microbiomeExplorer.buildbin-libdir StartedAt: 2025-02-05 16:39:07 -0500 (Wed, 05 Feb 2025) EndedAt: 2025-02-05 16:39:25 -0500 (Wed, 05 Feb 2025) EllapsedTime: 17.9 seconds RetCode: 0 Status: OK PackageFile: microbiomeExplorer_1.16.0.tgz PackageFileSize: 3.411 MiB