Package: microbiomeExplorer Version: 1.16.0 Command: /Library/Frameworks/R.framework/Resources/bin/R CMD build --keep-empty-dirs --no-resave-data microbiomeExplorer StartedAt: 2025-02-03 20:17:42 -0500 (Mon, 03 Feb 2025) EndedAt: 2025-02-03 20:19:14 -0500 (Mon, 03 Feb 2025) EllapsedTime: 92.0 seconds RetCode: 0 Status: OK PackageFile: microbiomeExplorer_1.16.0.tar.gz PackageFileSize: 2.976 MiB