Package: microbiomeExplorer Version: 1.16.0 Command: /home/biocbuild/bbs-3.20-bioc/R/bin/R CMD INSTALL microbiomeExplorer StartedAt: 2025-02-03 16:00:04 -0500 (Mon, 03 Feb 2025) EndedAt: 2025-02-03 16:00:18 -0500 (Mon, 03 Feb 2025) EllapsedTime: 13.6 seconds RetCode: 0 Status: OK