Package: microbiomeExplorer Version: 1.15.0 Command: chmod a+r microbiomeExplorer -R && C:\Users\biocbuild\bbs-3.20-bioc\R\bin\R.exe CMD build --keep-empty-dirs --no-resave-data microbiomeExplorer StartedAt: 2024-07-15 19:08:31 -0400 (Mon, 15 Jul 2024) EndedAt: 2024-07-15 19:09:18 -0400 (Mon, 15 Jul 2024) EllapsedTime: 47.2 seconds RetCode: 0 Status: OK PackageFile: microbiomeExplorer_1.15.0.tar.gz PackageFileSize: 2.976 MiB