Package: microbiomeExplorer Version: 1.16.0 Command: rm -rf microbiomeExplorer.buildbin-libdir && mkdir microbiomeExplorer.buildbin-libdir && F:\biocbuild\bbs-3.20-bioc\R\bin\R.exe CMD INSTALL --build --library=microbiomeExplorer.buildbin-libdir microbiomeExplorer_1.16.0.tar.gz StartedAt: 2025-02-04 08:55:19 -0500 (Tue, 04 Feb 2025) EndedAt: 2025-02-04 09:01:06 -0500 (Tue, 04 Feb 2025) EllapsedTime: 346.5 seconds RetCode: 0 Status: OK PackageFile: microbiomeExplorer_1.16.0.zip PackageFileSize: 3.388 MiB