Package: microbiomeMarker Version: 1.12.1 Command: rm -rf microbiomeMarker.buildbin-libdir && mkdir microbiomeMarker.buildbin-libdir && /Users/biocbuild/BBS/utils/build-universal.sh microbiomeMarker_1.12.1.tar.gz /Library/Frameworks/R.framework/Resources/bin/R microbiomeMarker.buildbin-libdir StartedAt: 2025-02-12 15:53:04 -0500 (Wed, 12 Feb 2025) EndedAt: 2025-02-12 15:54:07 -0500 (Wed, 12 Feb 2025) EllapsedTime: 62.3 seconds RetCode: 0 Status: OK PackageFile: microbiomeMarker_1.12.1.tgz PackageFileSize: 3.748 MiB