Package: microbiomeMarker Version: 1.12.0 Command: /Library/Frameworks/R.framework/Resources/bin/R CMD build --keep-empty-dirs --no-resave-data microbiomeMarker StartedAt: 2025-02-04 03:23:16 -0500 (Tue, 04 Feb 2025) EndedAt: 2025-02-04 03:26:05 -0500 (Tue, 04 Feb 2025) EllapsedTime: 168.9 seconds RetCode: 0 Status: OK PackageFile: microbiomeMarker_1.12.0.tar.gz PackageFileSize: 3.018 MiB