Package: microbiomeMarker Version: 1.12.0 Command: /Library/Frameworks/R.framework/Resources/bin/R CMD check --install=check:microbiomeMarker.install-out.txt --library=/Library/Frameworks/R.framework/Resources/library --no-vignettes --timings microbiomeMarker_1.12.0.tar.gz StartedAt: 2024-11-09 07:05:45 -0500 (Sat, 09 Nov 2024) EndedAt: 2024-11-09 07:12:01 -0500 (Sat, 09 Nov 2024) EllapsedTime: 375.7 seconds RetCode: 1 Status: ERROR CheckDir: microbiomeMarker.Rcheck Warnings: NA