Package: microbiomeMarker Version: 1.12.0 Command: /Library/Frameworks/R.framework/Resources/bin/R CMD INSTALL microbiomeMarker StartedAt: 2024-11-19 15:38:31 -0500 (Tue, 19 Nov 2024) EndedAt: 2024-11-19 15:39:43 -0500 (Tue, 19 Nov 2024) EllapsedTime: 71.4 seconds RetCode: 0 Status: OK