Package: microbiomeMarker Version: 1.12.0 Command: /Library/Frameworks/R.framework/Resources/bin/R CMD build --keep-empty-dirs --no-resave-data microbiomeMarker StartedAt: 2025-02-03 20:17:43 -0500 (Mon, 03 Feb 2025) EndedAt: 2025-02-03 20:21:59 -0500 (Mon, 03 Feb 2025) EllapsedTime: 255.8 seconds RetCode: 1 Status: ERROR PackageFile: None PackageFileSize: NA