Package: microbiomeMarker Version: 1.12.0 Command: /home/biocbuild/bbs-3.20-bioc/R/bin/R CMD build --keep-empty-dirs --no-resave-data --md5 microbiomeMarker StartedAt: 2025-02-03 18:12:35 -0500 (Mon, 03 Feb 2025) EndedAt: 2025-02-03 18:14:09 -0500 (Mon, 03 Feb 2025) EllapsedTime: 93.1 seconds RetCode: 1 Status: ERROR PackageFile: None PackageFileSize: NA