Package: microbiomeMarker Version: 1.12.1 Command: /home/biocbuild/bbs-3.20-bioc/R/bin/R CMD INSTALL microbiomeMarker StartedAt: 2025-02-10 15:53:52 -0500 (Mon, 10 Feb 2025) EndedAt: 2025-02-10 15:54:39 -0500 (Mon, 10 Feb 2025) EllapsedTime: 46.4 seconds RetCode: 0 Status: OK