Package: microbiomeMarker Version: 1.12.0 Command: chmod a+r microbiomeMarker -R && F:\biocbuild\bbs-3.20-bioc\R\bin\R.exe CMD build --keep-empty-dirs --no-resave-data microbiomeMarker StartedAt: 2025-02-03 20:21:13 -0500 (Mon, 03 Feb 2025) EndedAt: 2025-02-03 20:23:42 -0500 (Mon, 03 Feb 2025) EllapsedTime: 148.4 seconds RetCode: 1 Status: ERROR PackageFile: None PackageFileSize: NA