Package: microbiomeMarker Version: 1.12.1 Command: F:\biocbuild\bbs-3.20-bioc\R\bin\R.exe CMD INSTALL microbiomeMarker StartedAt: 2025-02-10 16:50:32 -0500 (Mon, 10 Feb 2025) EndedAt: 2025-02-10 16:53:42 -0500 (Mon, 10 Feb 2025) EllapsedTime: 189.9 seconds RetCode: 0 Status: OK