Package: microbiomeMarker Version: 1.12.0 Command: /home/biocbuild/R/R/bin/R CMD build --keep-empty-dirs --no-resave-data microbiomeMarker StartedAt: 2025-02-04 00:57:18 -0000 (Tue, 04 Feb 2025) EndedAt: 2025-02-04 01:00:22 -0000 (Tue, 04 Feb 2025) EllapsedTime: 184.1 seconds RetCode: 0 Status: OK PackageFile: microbiomeMarker_1.12.0.tar.gz PackageFileSize: 2.191 MiB